BEGIN:VCALENDAR
VERSION:2.0
PRODID:-//BPW Ticino//NONSGML kigkonsult.se iCalcreator 2.16.12//
METHOD:PUBLISH
X-MS-OLK-FORCEINSPECTOROPEN:TRUE
BEGIN:VEVENT
UID:20260422T223744CEST-7525uXZu5e@BPW Ticino
DTSTAMP:20260422T203744Z
DESCRIPTION:Visita al Palazzo Federale di Berna\, in occasione della celebr
 azione del 50° anniversario della concessione del diritto di voto alle don
 ne. 
DTSTART:20220201T080000
DTEND:20220201T180000
ORGANIZER:MAILTO:BPW Ticino <info@bpw-ticino.ch>
SUMMARY:Visita al Palazzo Federale
END:VEVENT
END:VCALENDAR
