BEGIN:VCALENDAR
VERSION:2.0
PRODID:-//BPW Ticino//NONSGML kigkonsult.se iCalcreator 2.16.12//
METHOD:PUBLISH
X-MS-OLK-FORCEINSPECTOROPEN:TRUE
BEGIN:VEVENT
UID:20260422T225117CEST-4274ibAlEZ@BPW Ticino
DTSTAMP:20260422T205117Z
DESCRIPTION:
DTSTART:20220210T180000
DTEND:20220210T200000
ORGANIZER:MAILTO:BPW Ticino <info@bpw-ticino.ch>
SUMMARY:Assemblea delle Socie 2022
END:VEVENT
END:VCALENDAR
