BEGIN:VCALENDAR
VERSION:2.0
PRODID:-//BPW Ticino//NONSGML kigkonsult.se iCalcreator 2.16.12//
METHOD:PUBLISH
X-MS-OLK-FORCEINSPECTOROPEN:TRUE
BEGIN:VEVENT
UID:20260422T225104CEST-9962oV0Zrb@BPW Ticino
DTSTAMP:20260422T205104Z
DESCRIPTION:La cena di Natale delle socie BPW Ticino presso l'Hotel Lido Se
 egarten\, Lugano. 
DTSTART:20221204T190000
DTEND:20221204T233000
ORGANIZER:MAILTO:BPW Ticino <info@bpw-ticino.ch>
SUMMARY:Cena di Natale
END:VEVENT
END:VCALENDAR
