BEGIN:VCALENDAR
VERSION:2.0
PRODID:-//BPW Ticino//NONSGML kigkonsult.se iCalcreator 2.16.12//
METHOD:PUBLISH
X-MS-OLK-FORCEINSPECTOROPEN:TRUE
BEGIN:VEVENT
UID:20260422T224047CEST-6204PkJWGU@BPW Ticino
DTSTAMP:20260422T204047Z
DESCRIPTION:\nL’associazione Business & Professional Women Club Ticino è li
 eta di invitare la S. V. alla mostra fotografica itinerante BPW Experience
 21 che attraverserà tutto il Ticino toccando le città principali:\n\n▪ Men
 drisio sabato 4 settembre 2021 Piazzale de La Filanda\n▪ Lugano sabato 11 
 settembre 2021 Patio Palazzo Civico - Piazza Riforma\n▪ Locarno sabato 18 
 settembre 2021 Largo Franco Zorzi - antistante Globus\n▪ Bellinzona sabato
  25 settembre 2021 Piazza del Sole\n\nUlteriori informazioni\n \n\n\n
DTSTART:20210904T000000
DTEND:20210925T235900
LOCATION:Ticino 
ORGANIZER:MAILTO:BPW Ticino <info@bpw-ticino.ch>
SUMMARY:BPW Experience 21 Ticino
END:VEVENT
END:VCALENDAR
