BEGIN:VCALENDAR
VERSION:2.0
PRODID:-//BPW Ticino//NONSGML kigkonsult.se iCalcreator 2.16.12//
METHOD:PUBLISH
X-MS-OLK-FORCEINSPECTOROPEN:TRUE
BEGIN:VEVENT
UID:20260422T224216CEST-21741pn1Hf@BPW Ticino
DTSTAMP:20260422T204216Z
DESCRIPTION:Le comité des programmes remercie Véronique pour sa disponibili
 té et sa flexibilité ! Lors de cette soirée\, elle nous présentera LLUM Co
 aching \, son Cabinet de Coaching & Développement. Spécialisé en Coaching 
 et développement\, LLUM Coaching permet à ses clients souhaitant faire un 
 bilan professionnel et/ou personnel\, d’évoluer et de se repositionner dan
 s une approche humaine et dynamisante.\n\nCroyez en vos rêves et ils se ré
 aliseront peut-être\,\ncroyez en vous et ils se réaliseront sûrement.\nMar
 tin Luther King\n\nBiographie Véronique Lluis\nCoach certifiée par l’Insti
 tut de Coaching International de Genève\, Ecole d’Alain Cayrol (précurseur
  de la PNL en Europe et en Suisse)\, et membre ICF (Fédération de Coaching
  International)\, son activité est centrée sur le développement du potenti
 el individuel et collectif de ses clients.\n\nElle est également Certifiée
  en Agilité Comportementale par Agil’Oa\, spécialiste de l’Agilité Comport
 ementale\, qui continue ses travaux de recherches au sein de l’Institut d’
 Agilité des Organisations de Grenoble Ecole de Management. Elle est reconn
 ue Master Trainer pour la Suisse.\n\nExperte en marketing de soi\, intuiti
 ve\, créative et non conformiste\, elle est reconnue pour sa capacité à do
 nner un nouveau regard sur toute situation de transition.\n\nMerci de vous
  inscrire par le site internet jusqu’au samedi 6 mars.\n\nVers l'inscripti
 on\n\nAu plaisir de vous revoir\n\nLe comité des programmes du BPW Jura 
DTSTART:20210310T190000
DTEND:20210310T203000
ORGANIZER:MAILTO:BPW Ticino <info@bpw-ticino.ch>
SUMMARY:LLUM coaching
END:VEVENT
END:VCALENDAR
