BEGIN:VCALENDAR
VERSION:2.0
PRODID:-//BPW Ticino//NONSGML kigkonsult.se iCalcreator 2.16.12//
METHOD:PUBLISH
X-MS-OLK-FORCEINSPECTOROPEN:TRUE
BEGIN:VEVENT
UID:20260423T001629CEST-1295od2ssv@BPW Ticino
DTSTAMP:20260422T221629Z
DESCRIPTION:In den Wirren des 2. Weltkriegs waren Treffen zwischen BPW Club
 s oder Federations nicht mehr möglich. Sie suchten daher nach einer Möglic
 hkeit\, auch über weite Distanzen hinweg\, Beziehungen und Nähe zu pflegen
  und Frauen zu bestärken und riefen dazu die Kerzenlichtfeier ins Leben.\n
 \nWir sind mitnichten in derselben Not wie damals\, aber wie damals einges
 chränkt in unserem Bewegungsradius. Auch Treffen auf Clubebene sind nicht 
 möglich\, auch nicht draussen.\n\nBPW Switzerland hat deshalb entschieden 
 dieses Jahr eine nationale Kerzenlichtfeier online durchzuführen. Sie soll
  ein Zeichen der Verbundenheit aller BPW in der Schweiz sein. Unser Netzwe
 rk ist und bleibt stark.\n\nBPW Switzerland lädt deshalb ein am 9. Februar
  2021\, 19 Uhr auf Zoom.\n\nStatte dich aus mit einer noch nicht entzündet
 en Kerze in weiss\, blau oder rosa\, Feuerzeug oder Streichhölzer und eine
 m Getränk deiner Wahl und Gemütlichkeit und sei mit dabei! Wir freuen uns 
 auf dich!\n\nDiese nationale Kerzenlichtfeier ist als ergänzendes Angebot 
 zu Clubinternen Kerzenlichtfeiern gedacht. Die Botschaft von BPW Switzerla
 nd wird ab 10. Februar 2021 zu eurer freien Verfügung im internen Bereich 
 aufgeschaltet sein.\n\nEs wird um Anmeldung gebeten. Der entsprechende Zug
 angslink wird kurz vor der Veranstaltung per Mail versendet. 
DTSTART:20210209T190000
DTEND:20210209T210000
ORGANIZER:MAILTO:BPW Ticino <info@bpw-ticino.ch>
SUMMARY:Kerzenlichtfeier BPW Switzerland
END:VEVENT
END:VCALENDAR
