BEGIN:VCALENDAR
VERSION:2.0
PRODID:-//BPW Ticino//NONSGML kigkonsult.se iCalcreator 2.16.12//
METHOD:PUBLISH
X-MS-OLK-FORCEINSPECTOROPEN:TRUE
BEGIN:VEVENT
UID:20260423T001726CEST-4378RZX8Dn@BPW Ticino
DTSTAMP:20260422T221726Z
DESCRIPTION:\nSichtweisen - Erfahrungen - Podiumsgespräch\n\nNeue Technolog
 ien ermöglichen völlig neue Arbeitsmethoden\, die Arbeitswelt unterliegt e
 iner grundlegenden Transformation. Viele Aufgaben können ortsunabhängig we
 rden. Teams in wechselnden interdisziplinären Zusammensetzungen arbeiten ü
 ber Unternehmens- und Branchengrenzen hinweg zusammen. Wie funktioniert Fü
 hrung in solchen Konstellationen? Welche Bedeutung hat das menschliche Mit
 einander in Kooperationen auf digitalen Plattformen? Wie müssen Unternehme
 ns ihre Strukturen und Kulturen auf eine neue Generation von Talenten eins
 tellen\, die kooperieren und gleichzeitig im Wettbewerb stehen\, auf der S
 uche nach Sinnhaftigkeit in ihrer Arbeit und variierenden ideale Kombinati
 onen von Privat- und Berufsleben sind? Welche Fähigkeiten und Kompetenzen 
 benötigen die Führungskräfte der Zukunft?\n\nDie Veranstaltung in Zusammen
 arbeit mit Juristinnen Schweiz und der Schweizer Kader Organisation findet
  online statt und ist hochkarätig besetzt! \n\nZum Programm:\n\n18.30 Uhr 
 Login in Zoom und Networking virtuell mit wonder.me\n19.00 Uhr Keynote\, T
 alk\, Online-Podium – moderiert von \n\nPatrizia Laeri\, Wirtschaftsjourna
 listin und Unternehmerin\, mit diesen Gästen:\n\nProf. Dr. Dr. h.c. Margit
  Osterloh\, Keynote\nUlrike Clasen\, kadertraining.ch\nErika Ingold\, SBB 
 wipswiss.ch\nNadja Perroulaz\, liip.ch\n\n20.30 Uhr Austausch und Networki
 ng virtuell mit wonder.me \n\nTickets:\nCHF 25 für Mitglieder Juristinnen 
 Schweiz\, BKV\, BPW\, SKO und Eventpartner\nCHF 35 für Nicht-Mitglieder\n
 \nTicketverkauf\n\nDer Zoom-Link für Ihre Teilnahme am Referat und Podium\
 , wie auch der Link zur Teilnahme am virtuellen Networking über wonder.me 
 vor und nach dem Podium werden wir Ihnen 2 Tage vor dem Event per Mail sen
 den.\n\nInformationen zum Programm und den Referentinnen finden sie unter 
 frauenanbord.ch oder auf dem Flyer im Anhang.\n\nWeitere Informationen und
  den Link zur Anmeldung finden Sie hier www.frauenanbord.ch\n\n
DTSTART:20210414T180000
DTEND:20210414T210000
LOCATION:Online
ORGANIZER:MAILTO:BPW Ticino <info@bpw-ticino.ch>
SUMMARY:Frauen an Bord! - Online Panel unter der Moderation von Patrizia La
 eri 
END:VEVENT
END:VCALENDAR
