BEGIN:VCALENDAR
VERSION:2.0
PRODID:-//BPW Ticino//NONSGML kigkonsult.se iCalcreator 2.16.12//
METHOD:PUBLISH
X-MS-OLK-FORCEINSPECTOROPEN:TRUE
BEGIN:VEVENT
UID:20260423T001550CEST-6803wkf5JO@BPW Ticino
DTSTAMP:20260422T221550Z
DESCRIPTION:\nChères présidentes\n\nNous sommes heureuses de vous inviter c
 ette année aussi à la Conférence des Présidentes 2020. Étant donné la situ
 ation actuelle\, la Conférence des Présidentes aura lieu en ligne via Zoom
 .\nBien que nous nous verrons seulement à travers un écran\, cette rencont
 re a pour objectif d'échanger\, de mieux se connaître et de discuter des p
 oints forts du programme de BPW pour l'année à venir.\n\nDate et heure: Sa
 medi 28 novembre 2020\, 09.30h à 12.00h. (Login à partir de 09.15h) \n\nLi
 eu: En ligne sur zoom (Vous recevrez le lien correspondant après votre ins
 cription)\n\nVeuillez vous inscrire avant le 27 novembre 2020. Merci beauc
 oup! \n\n 
DTSTART:20201128T000000
DTEND:20201128T235900
LOCATION:Bern
ORGANIZER:MAILTO:BPW Ticino <info@bpw-ticino.ch>
SUMMARY:Conférence des présidentes
END:VEVENT
END:VCALENDAR
