BEGIN:VCALENDAR
VERSION:2.0
PRODID:-//BPW Ticino//NONSGML kigkonsult.se iCalcreator 2.16.12//
METHOD:PUBLISH
X-MS-OLK-FORCEINSPECTOROPEN:TRUE
BEGIN:VEVENT
UID:20260422T223711CEST-33728RUo7H@BPW Ticino
DTSTAMP:20260422T203711Z
DESCRIPTION:Liebe BPW\n\nWir freuen uns sehr\, Euch zu einem hochkarätigen 
 Frauennetzwerkanlass einzuladen. Es ist uns eine grosse Ehre\, die drei Bu
 ndesrätinnen für unseren Anlass am Montag\, 10. August gewonnen zu haben. 
 Die Teilhabe von Frauen am politischen Prozess ist für uns Frauennetzwerke
  ein zentrales Anliegen.\n\nSo enthält die kommende Abstimmung vom 27. Sep
 tember 2020 auch aus Frauensicht wichtige Aspekte. Der Anlass ist öffentli
 ch und politisch unabhängig\; Frauen und Männer sind herzlich willkommen.
 \n\nDie Anzahl der Teilnehmenden ist auf 400 beschränkt\, damit der notwen
 dige Abstand gewahrt werden kann. Bitte anmelden unter: https://form.jotfo
 rm.com/201821748635357\n\nWir freuen uns auf ein tollen Netzwerkabend.\n\n
 EINLADUNG\n\n\n 
DTSTART:20200810T180000
DTEND:20200810T200000
LOCATION:Kursaal Bern
ORGANIZER:MAILTO:BPW Ticino <info@bpw-ticino.ch>
SUMMARY:BUNDESRÄTINNEN IM GESPRÄCH
END:VEVENT
END:VCALENDAR
