BEGIN:VCALENDAR
VERSION:2.0
PRODID:-//BPW Ticino//NONSGML kigkonsult.se iCalcreator 2.16.12//
METHOD:PUBLISH
X-MS-OLK-FORCEINSPECTOROPEN:TRUE
BEGIN:VEVENT
UID:20260423T001731CEST-7149P2zAtK@BPW Ticino
DTSTAMP:20260422T221731Z
DESCRIPTION:\n5 septembre 2020\, Hotel Villa Sassa\, Lugano \n\nLe Comité c
 entral a décidé de convoquer l'Assemblée des déléguées au Tessin le 5 sept
 embre 2020. L'Assemblée des déléguées se déroulera à la fois en présentiel
  et sous forme numérique. Comme le canton du Tessin autorise des manifesta
 tions réunissant jusqu’à 100 personnes dans un établissement public\, nous
  sommes confiantes que nous pourrons tenir la réunion en septembre. Nous s
 ommes conscientes que nous devons être aussi agiles que possible et que be
 aucoup de choses peuvent encore se passer d’ici le début du mois de septem
 bre. Dans cette optique\, nous vous remercions également pour votre compré
 hension et votre flexibilité. Nous remercions tout particulièrement le BPW
  Club Ticino pour son excellent travail.\n\nInvito AdD 2020\nAi documenti 
 \n\n
DTSTART:20200905T000000
DTEND:20200905T235900
LOCATION:Hotel Villa Sassa Lugano
ORGANIZER:MAILTO:BPW Ticino <info@bpw-ticino.ch>
SUMMARY:Assemblea delle delegate 2020
END:VEVENT
END:VCALENDAR
