BEGIN:VCALENDAR
VERSION:2.0
PRODID:-//BPW Ticino//NONSGML kigkonsult.se iCalcreator 2.16.12//
METHOD:PUBLISH
X-MS-OLK-FORCEINSPECTOROPEN:TRUE
BEGIN:VEVENT
UID:20260423T001735CEST-6363z8mJRD@BPW Ticino
DTSTAMP:20260422T221735Z
DESCRIPTION:En raison du report de la réunion des délégués à l'automne 2020
 \, il a été décidé\, en collaboration avec le Club Biel/Bienne\, organisat
 eur de la conférence d'automne de cette année\, d'annuler celle-ci\, car d
 eux événements majeurs si proches n'ont guère de sens. Le comité central r
 emercie le Club Biel/Bienne pour le travail déjà accompli! Nous sommes con
 vaincus que nous reviendrons au Seeland à un autre moment.
DTSTART:20201031T000000
DTEND:20201031T235900
LOCATION:Eidg. Hochschule für Sport Magglingen
ORGANIZER:MAILTO:BPW Ticino <info@bpw-ticino.ch>
SUMMARY:Herbstkonferenz
END:VEVENT
END:VCALENDAR
