BEGIN:VCALENDAR
VERSION:2.0
PRODID:-//BPW Ticino//NONSGML kigkonsult.se iCalcreator 2.16.12//
METHOD:PUBLISH
X-MS-OLK-FORCEINSPECTOROPEN:TRUE
BEGIN:VEVENT
UID:20260423T001726CEST-0545aGoab4@BPW Ticino
DTSTAMP:20260422T221726Z
DESCRIPTION:Meet the Power Women of Thailand at the 30th Anniversary Global
  Summit of Women in Bangkok\, Thailand on October 8-10\, 2020.\n(It was pl
 anned for April\, 23-25\, but is postponed to October 8-10\,2020 for the s
 afety of the participants during this global health crisis.)\n\nClick the 
 video to see Summit President Irene Natividad interview Chadatip Chutrakul
 \, CEO of Siam Piwat\, who developed the award-winning ICONSIAM\, a 20-acr
 e shopping and residential complex along the Chao Phraya RIver in Bangkok.
 \n\nDid you know that…\n· Thai women make up 40% of Chief Executives and 3
 4% of Chief Financial Officers in Thai companies\;\n· Thailand ranks #1 in
  the world for enrollment of women in higher education with 1.41 women att
 ending a university for every man\;\n· Women in Thailand were among the fi
 rst women in Asia who were granted the right to vote in 1932\;\n· Thailand
 's female population comprises 47% of the country's workforce\, which make
 s up the highest percentage of working women in the Asia-Pacific region\n 
 \n\nDon't miss out!\n\nRegister for the 2020 Global Summit of Women in Ban
 gkok\, Thailand to hear from more powerful Thai women and women across the
  globe on real\, pressing issues facing women today.\n\nTo see who else yo
 u can meet at the 2020 Global Summit of Women in Bangkok\, click here.\n
DTSTART:20201008T000000
DTEND:20201010T235900
LOCATION:Bangkok Thailand
ORGANIZER:MAILTO:BPW Ticino <info@bpw-ticino.ch>
SUMMARY:Global Summit of Women 
END:VEVENT
END:VCALENDAR
