BEGIN:VCALENDAR
VERSION:2.0
PRODID:-//BPW Ticino//NONSGML kigkonsult.se iCalcreator 2.16.12//
METHOD:PUBLISH
X-MS-OLK-FORCEINSPECTOROPEN:TRUE
BEGIN:VEVENT
UID:20260422T224243CEST-6758Hi1cWa@BPW Ticino
DTSTAMP:20260422T204243Z
DESCRIPTION:Purtroppo\, questo evento ha dovuto essere annullato a causa de
 ll'attuale situazione COVID-19 e delle specifiche del governo federale e d
 ella BAG per l'anno 2020.\n\nTuttavia\, saremo lieti di organizzare un alt
 ro BPW Golf Trophy nel 2021 e ci auguriamo che gli appassionati di golf de
 lla BPW vi partecipino in numerosi.
DTSTART:20200828T000000
DTEND:20200828T235900
LOCATION:Region Zentralschweiz
ORGANIZER:MAILTO:BPW Ticino <info@bpw-ticino.ch>
SUMMARY:BPW Golf Trophy 2020
END:VEVENT
END:VCALENDAR
