BEGIN:VCALENDAR
VERSION:2.0
PRODID:-//BPW Ticino//NONSGML kigkonsult.se iCalcreator 2.16.12//
METHOD:PUBLISH
X-MS-OLK-FORCEINSPECTOROPEN:TRUE
BEGIN:VEVENT
UID:20260422T225926CEST-0871eaHMTR@BPW Ticino
DTSTAMP:20260422T205926Z
DESCRIPTION:
DTSTART:20200331T180000
DTEND:20210201T200000
ORGANIZER:MAILTO:BPW Ticino <info@bpw-ticino.ch>
SUMMARY:Carta dei Diritti della Bambina
END:VEVENT
END:VCALENDAR
