BEGIN:VCALENDAR
VERSION:2.0
PRODID:-//BPW Ticino//NONSGML kigkonsult.se iCalcreator 2.16.12//
METHOD:PUBLISH
X-MS-OLK-FORCEINSPECTOROPEN:TRUE
BEGIN:VEVENT
UID:20260422T225723CEST-64888O2lwl@BPW Ticino
DTSTAMP:20260422T205723Z
DESCRIPTION:\n\nAufgrund der aktuellen Situation rund um die Ausbreitung de
 s Coronavirus haben wir uns entschieden\, die Schulung digital und in verk
 ürzter Form durchzuführen.\n\n\n \n\nThemen\n\nBei BPW Switzerland verwend
 eten Systeme und Tools\nSchulung Webseite für:\n- Inhaltsseiten inkl. Bild
 er\, Formatvorlagen und Weiterleitungen\n- Anwendungen\n- Formulare\n- Inh
 altscontainer\n- Veranstaltungen inkl. Anmeldelisten und Anmeldeformulare
 \n- Interner Bereich (vom Club)\nVerwaltung E-Mailadressen\n\nDie Einladun
 g zur Zoom-Sitzung erhalten Sie per Mail nach Eingang Ihrer Anmeldung.\n\n
 \n\n
DTSTART:20200327T140000
DTEND:20200327T160000
ORGANIZER:MAILTO:BPW Ticino <info@bpw-ticino.ch>
SUMMARY:Schulung Website und Datenbank
END:VEVENT
END:VCALENDAR
