BEGIN:VCALENDAR
VERSION:2.0
PRODID:-//BPW Ticino//NONSGML kigkonsult.se iCalcreator 2.16.12//
METHOD:PUBLISH
X-MS-OLK-FORCEINSPECTOROPEN:TRUE
BEGIN:VEVENT
UID:20260423T001551CEST-5677ST2ZVb@BPW Ticino
DTSTAMP:20260422T221551Z
DESCRIPTION:Songez-vous à vous impliquer au sein du comité de votre BPW Clu
 b? Mais ne savez-vous pas (encore) ce qui vous attend et ce qu'on attend d
 e vous?\n \nVous êtes déjà membre du comité\, mais aimeriez en savoir plus
  sur l'association et les opportunités que BPW vous offre?\n \nAimeriez-vo
 us établir (encore) un meilleur réseau avec d'autres membres du comité dan
 s toute la Suisse?\n \nInscrivez-vous dès maintenant et venez participer à
  l'atelier pour les membres potentiels du conseil d'administration à Olten
  le 25 janvier 2020. Au plaisir de vous voir!\n\nProgramme :\nà partir de 
 9h30 : café et croissants\n10 h début de l'atelier
DTSTART:20200125T093000
DTEND:20200125T170000
LOCATION:Hotel Astoria\, Olten
ORGANIZER:MAILTO:BPW Ticino <info@bpw-ticino.ch>
SUMMARY:Atelier pour les membres potentielles du comité
END:VEVENT
END:VCALENDAR
