BEGIN:VCALENDAR
VERSION:2.0
PRODID:-//BPW Ticino//NONSGML kigkonsult.se iCalcreator 2.16.12//
METHOD:PUBLISH
X-MS-OLK-FORCEINSPECTOROPEN:TRUE
BEGIN:VEVENT
UID:20260423T002100CEST-2149ufVt0K@BPW Ticino
DTSTAMP:20260422T222100Z
DESCRIPTION:
DTSTART:20191114T190000
DTEND:20201114T103000
ORGANIZER:MAILTO:BPW Ticino <info@bpw-ticino.ch>
SUMMARY:Mentoring@University
END:VEVENT
END:VCALENDAR
