BEGIN:VCALENDAR
VERSION:2.0
PRODID:-//BPW Ticino//NONSGML kigkonsult.se iCalcreator 2.16.12//
METHOD:PUBLISH
X-MS-OLK-FORCEINSPECTOROPEN:TRUE
BEGIN:VEVENT
UID:20260424T101633CEST-8084ck3xUn@BPW Ticino
DTSTAMP:20260424T081633Z
DESCRIPTION:
DTSTART:20190523T153000
DTEND:20210123T160000
ORGANIZER:MAILTO:BPW Ticino <info@bpw-ticino.ch>
SUMMARY:Speedy Mentoring
END:VEVENT
END:VCALENDAR
