BEGIN:VCALENDAR
VERSION:2.0
PRODID:-//BPW Ticino//NONSGML kigkonsult.se iCalcreator 2.16.12//
METHOD:PUBLISH
X-MS-OLK-FORCEINSPECTOROPEN:TRUE
BEGIN:VEVENT
UID:20260423T002048CEST-3479J0Wufm@BPW Ticino
DTSTAMP:20260422T222048Z
DESCRIPTION:
DTSTART:20190905T183000
DTEND:20190905T200000
ORGANIZER:MAILTO:BPW Ticino <info@bpw-ticino.ch>
SUMMARY:Aperitivo mensile con le socie
END:VEVENT
END:VCALENDAR
