BEGIN:VCALENDAR
VERSION:2.0
PRODID:-//BPW Ticino//NONSGML kigkonsult.se iCalcreator 2.16.12//
METHOD:PUBLISH
X-MS-OLK-FORCEINSPECTOROPEN:TRUE
BEGIN:VEVENT
UID:20260422T225111CEST-2293FSBPiD@BPW Ticino
DTSTAMP:20260422T205111Z
DESCRIPTION:
DTSTART:20230505T183000
DTEND:20230505T203000
ORGANIZER:MAILTO:BPW Ticino <info@bpw-ticino.ch>
SUMMARY:Aperitivo mensile
END:VEVENT
END:VCALENDAR
