BEGIN:VCALENDAR
VERSION:2.0
PRODID:-//BPW Ticino//NONSGML kigkonsult.se iCalcreator 2.16.12//
METHOD:PUBLISH
X-MS-OLK-FORCEINSPECTOROPEN:TRUE
BEGIN:VEVENT
UID:20260423T001428CEST-5503UnT8WU@BPW Ticino
DTSTAMP:20260422T221428Z
DESCRIPTION:Tutti i dettagli della conferenza autunnale di quest'anno si tr
 ovano qui nel volantino.\n\nSiete pregati di notare che il numero di parte
 cipanti alla serata di gala è limitato. Vale la pena registrarsi velocemen
 te!
DTSTART:20191102T000000
DTEND:20191102T235900
LOCATION:Romanshorn
ORGANIZER:MAILTO:BPW Ticino <info@bpw-ticino.ch>
SUMMARY:Conferenza d'autunno 2019
END:VEVENT
END:VCALENDAR
