BEGIN:VCALENDAR
VERSION:2.0
PRODID:-//BPW Ticino//NONSGML kigkonsult.se iCalcreator 2.16.12//
METHOD:PUBLISH
X-MS-OLK-FORCEINSPECTOROPEN:TRUE
BEGIN:VEVENT
UID:20260423T001750CEST-6809fu87WJ@BPW Ticino
DTSTAMP:20260422T221750Z
DESCRIPTION:Diese Schulung ist offen für alle Webverantwortlichen der Clubs
 . \n\nBitte melden Sie sich so rasch als möglich an. Die Platzzahl ist auf
  20 beschränkt. \n\nInhalt:\n\n\n	\n	Nachschulung für die Webseite (verschie
 dene Themen)\n	\n	\n	neues Newslettertool via Webseite\n	\n	\n	neue Mitgliederda
 tenbank\n	\n\n
DTSTART:20190927T140000
DTEND:20190927T170000
LOCATION:Hotel Astoria
ORGANIZER:MAILTO:BPW Ticino <info@bpw-ticino.ch>
SUMMARY:Formation pour site Internet
END:VEVENT
END:VCALENDAR
