BEGIN:VCALENDAR
VERSION:2.0
PRODID:-//BPW Ticino//NONSGML kigkonsult.se iCalcreator 2.16.12//
METHOD:PUBLISH
X-MS-OLK-FORCEINSPECTOROPEN:TRUE
BEGIN:VEVENT
UID:20260423T001950CEST-5829EVtIO9@BPW Ticino
DTSTAMP:20260422T221950Z
DESCRIPTION:Ensemble\, nous façonnons l'avenir desBPW\n\nContent\nAtelier i
 nteractif:\nC'est ainsi que nous façonnons l'avenir\ndes BPW à travers les
  générations et\nutilisons nos synergies pour le\ndéveloppement individuel
 .\n\nThe evolution of style\nFashion & Beauty Studio\n\nPour tous les déta
 ils\, veuillez consulter le flyer.\n(Attention nouveau lieu: General Elect
 ric (Switzerland) GmbH\,Brown Boveri Strasse 7\, 5401 Baden)\n\nLes inscri
 ptions sont définitives. En cas d'annulation après le 11 octobre 2019 ou d
 e non-présentation\, le montant total est exigé.
DTSTART:20191026T093000
DTEND:20191026T160000
LOCATION:General Electric (Switzerland) GmbH
ORGANIZER:MAILTO:BPW Ticino <info@bpw-ticino.ch>
SUMMARY:Un pont entre les générations
END:VEVENT
END:VCALENDAR
