BEGIN:VCALENDAR
VERSION:2.0
PRODID:-//BPW Ticino//NONSGML kigkonsult.se iCalcreator 2.16.12//
METHOD:PUBLISH
X-MS-OLK-FORCEINSPECTOROPEN:TRUE
BEGIN:VEVENT
UID:20260423T001726CEST-8013cbzUUG@BPW Ticino
DTSTAMP:20260422T221726Z
DESCRIPTION:L'assemblea delle delegate 2019 si terrà il 29 giugno a Lucerna
 . \n\nTutte le informazioni si trovano nel flyer. \n\nSi prega di registra
 rsi direttamente su questo sito web. I prezzi Early Bird sono validi fino 
 al 31 maggio 2019.\n
DTSTART:20190629T000000
DTEND:20190629T235900
LOCATION:Hotel Schweizerhof
ORGANIZER:MAILTO:BPW Ticino <info@bpw-ticino.ch>
SUMMARY:Assemblea delle Delegate 2019
END:VEVENT
END:VCALENDAR
