BEGIN:VCALENDAR
VERSION:2.0
PRODID:-//BPW Ticino//NONSGML kigkonsult.se iCalcreator 2.16.12//
METHOD:PUBLISH
X-MS-OLK-FORCEINSPECTOROPEN:TRUE
BEGIN:VEVENT
UID:20260424T102251CEST-6687rlZBbz@BPW Ticino
DTSTAMP:20260424T082251Z
DESCRIPTION:
DTSTART:20190506T180000
DTEND:20190506T203000
LOCATION:Soave 10
ORGANIZER:MAILTO:BPW Ticino <info@bpw-ticino.ch>
SUMMARY:Aperitivo
END:VEVENT
END:VCALENDAR
