BEGIN:VCALENDAR
VERSION:2.0
PRODID:-//BPW Ticino//NONSGML kigkonsult.se iCalcreator 2.16.12//
METHOD:PUBLISH
X-MS-OLK-FORCEINSPECTOROPEN:TRUE
BEGIN:VEVENT
UID:20260424T103024CEST-3347PczTlP@BPW Ticino
DTSTAMP:20260424T083024Z
DESCRIPTION:
DTSTART:20190415T132900
DTEND:20190415T170000
LOCATION:Scuole Acquarossa
ORGANIZER:MAILTO:BPW Ticino <info@bpw-ticino.ch>
SUMMARY:50 assimetrie di genere
END:VEVENT
END:VCALENDAR
