BEGIN:VCALENDAR
VERSION:2.0
PRODID:-//BPW Ticino//NONSGML kigkonsult.se iCalcreator 2.16.12//
METHOD:PUBLISH
X-MS-OLK-FORCEINSPECTOROPEN:TRUE
BEGIN:VEVENT
UID:20260423T001611CEST-1222Pm2Ix5@BPW Ticino
DTSTAMP:20260422T221611Z
DESCRIPTION:
DTSTART:20191022T180000
DTEND:20191022T200000
LOCATION:Kromya Art Gallery
ORGANIZER:MAILTO:BPW Ticino <info@bpw-ticino.ch>
SUMMARY:Presentazione nuove socie
END:VEVENT
END:VCALENDAR
