BEGIN:VCALENDAR
VERSION:2.0
PRODID:-//BPW Ticino//NONSGML kigkonsult.se iCalcreator 2.16.12//
METHOD:PUBLISH
X-MS-OLK-FORCEINSPECTOROPEN:TRUE
BEGIN:VEVENT
UID:20260423T001550CEST-9415U5U4Px@BPW Ticino
DTSTAMP:20260422T221550Z
DESCRIPTION:
DTSTART:20190404T180000
DTEND:20190404T200000
LOCATION:Kromya Art Gallery
ORGANIZER:MAILTO:BPW Ticino <info@bpw-ticino.ch>
SUMMARY:Presentazione nuove socie
END:VEVENT
END:VCALENDAR
