BEGIN:VCALENDAR
VERSION:2.0
PRODID:-//BPW Ticino//NONSGML kigkonsult.se iCalcreator 2.16.12//
METHOD:PUBLISH
X-MS-OLK-FORCEINSPECTOROPEN:TRUE
BEGIN:VEVENT
UID:20260423T001824CEST-2031bMmfjb@BPW Ticino
DTSTAMP:20260422T221824Z
DESCRIPTION:\nDer Frauen*streik 2019 steht unter dem Motto 'Gleichberechtig
 ung. Punkt. Schluss! Egalité. Point final!'\n\nWeitere Informationen finde
 n Sie hier.\n 
DTSTART:20190614T000000
DTEND:20190614T235900
ORGANIZER:MAILTO:BPW Ticino <info@bpw-ticino.ch>
SUMMARY:Frauen*streik – grève féministe 14.6.2019
END:VEVENT
END:VCALENDAR
