BEGIN:VCALENDAR
VERSION:2.0
PRODID:-//BPW Ticino//NONSGML kigkonsult.se iCalcreator 2.16.12//
METHOD:PUBLISH
X-MS-OLK-FORCEINSPECTOROPEN:TRUE
BEGIN:VEVENT
UID:20260422T224749CEST-5090RzvS0f@BPW Ticino
DTSTAMP:20260422T204749Z
DESCRIPTION:
DTSTART:20200503T000000
DTEND:20210303T235900
LOCATION:Lugano-Melide
ORGANIZER:MAILTO:BPW Ticino <info@bpw-ticino.ch>
SUMMARY:Walking Lugano
END:VEVENT
END:VCALENDAR
