BEGIN:VCALENDAR
VERSION:2.0
PRODID:-//BPW Ticino//NONSGML kigkonsult.se iCalcreator 2.16.12//
METHOD:PUBLISH
X-MS-OLK-FORCEINSPECTOROPEN:TRUE
BEGIN:VEVENT
UID:20260423T001444CEST-2256v08eRx@BPW Ticino
DTSTAMP:20260422T221444Z
DESCRIPTION:
DTSTART:20190314T190000
DTEND:20200214T223000
LOCATION:Ristorante Metamorphosis
ORGANIZER:MAILTO:BPW Ticino <info@bpw-ticino.ch>
SUMMARY:Cerimonia delle Candele 2019
END:VEVENT
END:VCALENDAR
