BEGIN:VCALENDAR
VERSION:2.0
PRODID:-//BPW Ticino//NONSGML kigkonsult.se iCalcreator 2.16.12//
METHOD:PUBLISH
X-MS-OLK-FORCEINSPECTOROPEN:TRUE
BEGIN:VEVENT
UID:20260423T002027CEST-6347auX9on@BPW Ticino
DTSTAMP:20260422T222027Z
DESCRIPTION:Una visita della durata di circa 1 h con l’introduzione della n
 ostra socia Elisabetta Aiazzone\, sul Surrealismo e il linguaggio di Magri
 tte.\n\n“ Through an exceptional selection of works\, the Museo d’arte del
 la Svizzera italiana will retrace the entire career of René Magritte: from
  the beginning to the most famous paintings of maturity. It will thus bepo
 ssible to understand the origin and sources of inspiration for the painter
 ’s work who impressed the public like no one. The exhibition is related to
  the conference that Magritte held on November 20\, 1938 at the Musée Roya
 l des Beaux-Arts in Antwerp. Entitled La Ligne de vie\, the lecture was on
 e of the rare occasions in which the artist expressed himself on his work 
 publicly. Within an hour\, through twenty images\, Magritte paid homage to
  André Breton and the Belgian surrealists but above all he delineated the 
 genesis of his art and clarified the fundamentals that enabled him to tran
 sform everyday objects into something shocking'.\n\nIl costo di entrata de
 l biglietto è di 20 CHF*\nChi volesse può noleggiare le audio guide.\n\n*I
 n caso raggiungessimo il numero di 20 persone\, otterremmo uno sconto sul 
 biglietto singolo.\nL’invito è aperto anche a parenti e amici.\n\nseguirà 
 apero cena\nalle 20:00 al Cafe PALACE\nPiazza Bernardino Luini\, 5 Lugano
 \n\nCosto 20/25 CHF persona\n\nVi preghiamo di confermare la vostra presen
 za ai seguenti link entro il 31 ottobre\n\nalla mostra con ingresso al LAC
 : https://doodle.com/poll/2a3txb6hh9u6yuaw\nall’apero cena al Palace Cafè 
  https://doodle.com/poll/bcwdmhbsfdwqs93n\n\nIn caso riscontraste difficol
 tà nell’utilizzare questo servizio\, preghiamo di mandare una mail di conf
 erma ad info@bpwticino.ch.\nPer ogni ulteriore informazione potete rivolge
 rvi direttamente a:\nElisabetta Aiazzone Mobile +41 76 802 47 02
DTSTART:20181108T181500
DTEND:20181108T220000
LOCATION:MASI - Museo d'Arte della Svizzera Italiana  Lugano Arte e Cultura
ORGANIZER:MAILTO:BPW Ticino <info@bpw-ticino.ch>
SUMMARY:Mostra di Magritte
END:VEVENT
END:VCALENDAR
