BEGIN:VCALENDAR
VERSION:2.0
PRODID:-//BPW Ticino//NONSGML kigkonsult.se iCalcreator 2.16.12//
METHOD:PUBLISH
X-MS-OLK-FORCEINSPECTOROPEN:TRUE
BEGIN:VEVENT
UID:20260423T002206CEST-2416fARLDs@BPW Ticino
DTSTAMP:20260422T222206Z
DESCRIPTION:\nAn der Digitalisierung kommt kein Unternehmen vorbei. In den 
 Medien ist Digitalisierung omnipräsent\, und manche Entscheidungsträgerin 
 stellt schnell einmal fest\, dass eine genaue Definition schwierig ist.\n
 \nAuch BPW Switzerland geht dem Thema nach und stellt am 7. BPW Board Day 
 die Frage: «Wie beeinflusst die Digitalisierung ein KMU- Geschäftsmodell?»
 . Mit einem Impulsreferat werden dazu strategische Ansatzpunkte für die Di
 gitalisierung eines KMU beleuchtet. In der folgenden Podiumsdiskussion geb
 en Entscheidungsträgerinnen ihre Erfahrungen mit der Digitalisierung preis
 . Verwaltungsrätinnen von Produktions-\, Medien-\, Healthcare- und Service
 -Unternehmen diskutieren die Gestaltung vom eigenen digitalen Weg mit ihre
 n KMU.\n\nDie verschiedenen Aspekte der Digitalisierung können am Netzwerk
 -Apéro mit der Referentin und den KMU-Entscheidungsträgerinnen in persönli
 chen Gesprächen vertieft werden.\n\nProgramm vom 13.11.2018:\n\n17.30 – 18
 .00 Uhr: Empfang\n18.00 – 18.10 Uhr: Begrüssung durch Elisabeth Bosshart\,
  Präsidentin BPW Switzerland\n18.10 – 18.45 Uhr: Impulsreferat: «Ansatzpun
 kte für die digitale Transformation» Christine Abbühl\, Oya-Management AG
 \n18.45 – 20.00 Uhr: Podiumsdiskussion: «Wie beeinflusst die Digitalisieru
 ng Ihr KMU-Geschäftsmodell?» Mit Carola Flaman (Services)\, Irene Frei (Me
 dien)\, Dr. Judith Kall (Produktion) und Dr. Helga Reinshagen (Healthcare)
 \; Moderation: Monique Ryser\n20.00 – 20.15 Uhr: Schlussfolgerung und Vera
 bschiedung\n20.15 – 21.30 Uhr: Netzwerk-Apéro\n\nOrt:\nKV Zürich Business 
 School\nLimmatstrasse 310\n8031 Zürich\nwww.kvz-schule.ch\n\nPreise:\nCHF 
 50.00 für Mitglieder BPW\, Juristinnen Schweiz\, SKO\nCHF 70.00 für Nichtm
 itglieder\n\nAnnmeldungen sind verbindlich. Bei Abmeldung bis 30. Oktober 
 2018 werden CHF 30.00 in Rechnung gestellt\,\nbei späterer Abmeldung oder 
 bei Nichterscheinen wird der gesamte Teilnahmebetrag fällig.\n\nWeiter Inf
 ormationen entnehmen Sie bitte dem Flyer.\n
DTSTART:20181113T173000
DTEND:20181113T213000
LOCATION:Bildungszentrum Sihlpost
ORGANIZER:MAILTO:BPW Ticino <info@bpw-ticino.ch>
SUMMARY:7. BPW Board Day: Digitalisierung in Schweizer KMU
END:VEVENT
END:VCALENDAR
