BEGIN:VCALENDAR
VERSION:2.0
PRODID:-//BPW Ticino//NONSGML kigkonsult.se iCalcreator 2.16.12//
METHOD:PUBLISH
X-MS-OLK-FORCEINSPECTOROPEN:TRUE
BEGIN:VEVENT
UID:20260423T001628CEST-7164fvuwXi@BPW Ticino
DTSTAMP:20260422T221628Z
DESCRIPTION:\nNell'ambito del progetto Mentoring 2018\nil BPW Club Ticino s
 arà presente alla Notte Bianca delle Carriere dell'Università della Svizze
 ra Italiana il 22 novembre 2018\n \n\n
DTSTART:20181122T180000
DTEND:20181122T220000
LOCATION:USI\, Stanza 303
ORGANIZER:MAILTO:BPW Ticino <info@bpw-ticino.ch>
SUMMARY:Mentoring alla Notte bianca delle carriere USI
END:VEVENT
END:VCALENDAR
