BEGIN:VCALENDAR
VERSION:2.0
PRODID:-//BPW Ticino//NONSGML kigkonsult.se iCalcreator 2.16.12//
METHOD:PUBLISH
X-MS-OLK-FORCEINSPECTOROPEN:TRUE
BEGIN:VEVENT
UID:20260423T001730CEST-37863hg28r@BPW Ticino
DTSTAMP:20260422T221730Z
DESCRIPTION:Save the Date!\n\nIm Februar 2019 ist der 10. Jahrestag des Equ
 al Pay Day in der Schweiz.\n\n 
DTSTART:20190222T000000
DTEND:20190222T235900
ORGANIZER:MAILTO:BPW Ticino <info@bpw-ticino.ch>
SUMMARY:Equal Pay Day 2019
END:VEVENT
END:VCALENDAR
