BEGIN:VCALENDAR
VERSION:2.0
PRODID:-//BPW Ticino//NONSGML kigkonsult.se iCalcreator 2.16.12//
METHOD:PUBLISH
X-MS-OLK-FORCEINSPECTOROPEN:TRUE
BEGIN:VEVENT
UID:20260423T001429CEST-4572x9MfGD@BPW Ticino
DTSTAMP:20260422T221429Z
DESCRIPTION:Presentazione delle socie \n\n25 settembre 2018\n\nalle ore 17.
 30\n\npresso l'Hotel Pestalozzi\n\nVia Pietro Bianchi\, Piazza indipendenz
 a 9\n\n6901 Lugano\n\n \n\nChi desidera presentarsi e non l'avesse ancora 
 fatto puo' preparare un intervento di massimo 20 min e annunciarsi per ema
 il a info@bpw-ticino.ch entro il 20.09.2018\n
DTSTART:20180925T173000
DTEND:20180925T193000
LOCATION:Hotel Pestalozzi
ORGANIZER:MAILTO:BPW Ticino <info@bpw-ticino.ch>
SUMMARY:Presentazione delle socie
END:VEVENT
END:VCALENDAR
