BEGIN:VCALENDAR
VERSION:2.0
PRODID:-//BPW Ticino//NONSGML kigkonsult.se iCalcreator 2.16.12//
METHOD:PUBLISH
X-MS-OLK-FORCEINSPECTOROPEN:TRUE
BEGIN:VEVENT
UID:20260424T101451CEST-60286HrWoU@BPW Ticino
DTSTAMP:20260424T081451Z
DESCRIPTION:
DTSTART:20181013T100000
DTEND:20181013T123000
LOCATION:Lugano
ORGANIZER:MAILTO:BPW Ticino <info@bpw-ticino.ch>
SUMMARY:Riunione di comitato aperta alle socie
END:VEVENT
END:VCALENDAR
