BEGIN:VCALENDAR
VERSION:2.0
PRODID:-//BPW Ticino//NONSGML kigkonsult.se iCalcreator 2.16.12//
METHOD:PUBLISH
X-MS-OLK-FORCEINSPECTOROPEN:TRUE
BEGIN:VEVENT
UID:20260423T002237CEST-289247gLLf@BPW Ticino
DTSTAMP:20260422T222237Z
DESCRIPTION:\n“Mi presento al meglio“ \n\n\n15 settembre 2018\n\ndalle 9.00
  alle 13.00 e dalle 14.00 alle 18.00 \n\nSala 1 - Canvetto Luganese\, \n\n
 via R. Simen 14/b - 6904 Lugano.\n\n \n\nIl Workshop organizzato da BPW Cl
 ub Ticino ha l’obiettivo di dare alle partecipanti una serie di informazio
 ni e nozioni riguardo la promozione del proprio percorso professionale att
 raverso il Curriculum Vitae e Linkedin. \nNello specifico si suddivide in 
 due parti:\nla prima parte ha l’obiettivo di far conoscere alle partecipan
 ti gli elementi più utili per rendere il proprio CV completo\, esaustivo\,
  ed efficace.\nLa seconda focalizza la propria attenzione su Linkedin e su
 lle modalità per utilizzare in modo efficace ed efficiente questo strument
 o sempre più utilizzato per promuovere se stessi in ambito professionale.
 \n\n \nIl costo è CHF 140 a partecipante con 12 partecipanti.\n\n \n
DTSTART:20180915T200000
DTEND:20180915T203000
LOCATION:Canvetto Luganese\, Sala 1
ORGANIZER:MAILTO:BPW Ticino <info@bpw-ticino.ch>
SUMMARY:Workshop 'Mi presento al meglio'
END:VEVENT
END:VCALENDAR
