BEGIN:VCALENDAR
VERSION:2.0
PRODID:-//BPW Ticino//NONSGML kigkonsult.se iCalcreator 2.16.12//
METHOD:PUBLISH
X-MS-OLK-FORCEINSPECTOROPEN:TRUE
BEGIN:VEVENT
UID:20260423T001751CEST-7180HsLEA3@BPW Ticino
DTSTAMP:20260422T221751Z
DESCRIPTION:C’est l’occasion pour les présidentes nouvellement élues de rec
 evoir les principales informations pour remplir leur fonction.
DTSTART:20190406T090000
DTEND:20190406T170000
LOCATION:Hotel Astoria\, Olten
ORGANIZER:MAILTO:BPW Ticino <info@bpw-ticino.ch>
SUMMARY:Formation des nouvelles présidentes
END:VEVENT
END:VCALENDAR
