BEGIN:VCALENDAR
VERSION:2.0
PRODID:-//BPW Ticino//NONSGML kigkonsult.se iCalcreator 2.16.12//
METHOD:PUBLISH
X-MS-OLK-FORCEINSPECTOROPEN:TRUE
BEGIN:VEVENT
UID:20260423T001602CEST-2698ozVWSJ@BPW Ticino
DTSTAMP:20260422T221602Z
DESCRIPTION:Etes-vous intéressée aux trucs et astuces permettant de manier 
 le site Web et la base de données des membres? Comment créer une nouvelle?
  Comment saisir une nouvelle membre dans le système? Comment créer une new
 sletter? Toutes les infos à ce sujet le 5 avril 2019.\n\nLa formation est 
 effectuée pour les responsables de sites internet et banques de données de
 s clubs BPW. Svp\, prenez avec vos ordinateurs portables et vos identifian
 ts.\n\n\nAgenda:\n\n13:30 Début de la formation\nenv. 17:30 h Fin de la fo
 rmation\nLe sujet principal sera le nouveau site web. Nous sommes égalemen
 t à votre disposition pour répondre à vos questions concernant la base de 
 données.\n
DTSTART:20190405T130000
DTEND:20190405T180000
LOCATION:Hotel Astoria\, Olten
ORGANIZER:MAILTO:BPW Ticino <info@bpw-ticino.ch>
SUMMARY:Formation pour site Internet et banque de données
END:VEVENT
END:VCALENDAR
