BEGIN:VCALENDAR
VERSION:2.0
PRODID:-//BPW Ticino//NONSGML kigkonsult.se iCalcreator 2.16.12//
METHOD:PUBLISH
X-MS-OLK-FORCEINSPECTOROPEN:TRUE
BEGIN:VEVENT
UID:20260423T001417CEST-5480F2D69W@BPW Ticino
DTSTAMP:20260422T221417Z
DESCRIPTION:Songez-vous à vous impliquer au sein du comité? Mais ne savez-v
 ous pas (encore) ce qui vous attend et ce qu'on attend de vous?\n \nVous ê
 tes déjà membre du comité\, mais aimeriez en savoir plus sur l'association
  et les opportunités que BPW vous offre?\n \nAimeriez-vous établir (encore
 ) un meilleur réseau avec d'autres membres du comité dans toute la Suisse?
 \n \nInscrivez-vous dès maintenant et venez participer à l'atelier pour le
 s membres potentiels du conseil d'administration à Olten le 26 janvier 201
 9. Au plaisir de vous voir!\n\nProgramme :\nà partir de 9h30 : café et cro
 issants\n10 h début de l'atelier
DTSTART:20190126T093000
DTEND:20190126T173000
LOCATION:Hotel Astoria\, Olten
ORGANIZER:MAILTO:BPW Ticino <info@bpw-ticino.ch>
SUMMARY:Atelier pour les membres potentielles du comité
END:VEVENT
END:VCALENDAR
