BEGIN:VCALENDAR
VERSION:2.0
PRODID:-//BPW Ticino//NONSGML kigkonsult.se iCalcreator 2.16.12//
METHOD:PUBLISH
X-MS-OLK-FORCEINSPECTOROPEN:TRUE
BEGIN:VEVENT
UID:20260423T001417CEST-9056UIkpmb@BPW Ticino
DTSTAMP:20260422T221417Z
DESCRIPTION:\n\n \n\nISCRIZIONE\n\n\n\n\nSeguiteci su Facebook!\n\nDisabili
  siamo tutti 2017\n
DTSTART:20181125T140000
DTEND:20181125T180000
LOCATION:Hotel De La Paix - Lugano
ORGANIZER:MAILTO:BPW Ticino <info@bpw-ticino.ch>
SUMMARY:Disabili siamo tutti
END:VEVENT
END:VCALENDAR
