BEGIN:VCALENDAR
VERSION:2.0
PRODID:-//BPW Ticino//NONSGML kigkonsult.se iCalcreator 2.16.12//
METHOD:PUBLISH
X-MS-OLK-FORCEINSPECTOROPEN:TRUE
BEGIN:VEVENT
UID:20260423T013924CEST-7986bFjaFI@BPW Ticino
DTSTAMP:20260422T233924Z
DESCRIPTION:\n	\n		\n			Nell'ambito del gemellaggio con il BPW Club di Coira\, ab
 biamo ricevuto l'invito a recarci a Coira sabato 5 maggio 2018.\n			\n			Vi preg
 hiamo di iscrivervi\, inviando un'e-mail a info@bpw-ticino.ch\, entro il 3
 1 marzo 2018 e indicare se mettete a disposizione l'auto o se necessitate 
 di un passaggio\, così da organizzare il trasporto al meglio.\n			\n			\n			\n			\n			\n		
 \n	\n\n
DTSTART:20180505T083000
DTEND:20180505T160000
LOCATION:Coira
ORGANIZER:MAILTO:BPW Ticino <info@bpw-ticino.ch>
SUMMARY:Gemellaggio di ritorno
END:VEVENT
END:VCALENDAR
