BEGIN:VCALENDAR
VERSION:2.0
PRODID:-//BPW Ticino//NONSGML kigkonsult.se iCalcreator 2.16.12//
METHOD:PUBLISH
X-MS-OLK-FORCEINSPECTOROPEN:TRUE
BEGIN:VEVENT
UID:20260424T114941CEST-6909RhUeTE@BPW Ticino
DTSTAMP:20260424T094941Z
DESCRIPTION:
DTSTART:20180321T180000
DTEND:20180321T193000
LOCATION:TiTraduce
ORGANIZER:MAILTO:BPW Ticino <info@bpw-ticino.ch>
SUMMARY:Riunione di comitato aperta alle socie
END:VEVENT
END:VCALENDAR
