BEGIN:VCALENDAR
VERSION:2.0
PRODID:-//BPW Ticino//NONSGML kigkonsult.se iCalcreator 2.16.12//
METHOD:PUBLISH
X-MS-OLK-FORCEINSPECTOROPEN:TRUE
BEGIN:VEVENT
UID:20260423T014032CEST-1840AZK3CW@BPW Ticino
DTSTAMP:20260422T234032Z
DESCRIPTION:
DTSTART:20180303T100000
DTEND:20180303T130000
LOCATION:c/o Ti Traduce
ORGANIZER:MAILTO:BPW Ticino <info@bpw-ticino.ch>
SUMMARY:Riunione di comitato
END:VEVENT
END:VCALENDAR
