BEGIN:VCALENDAR
VERSION:2.0
PRODID:-//BPW Ticino//NONSGML kigkonsult.se iCalcreator 2.16.12//
METHOD:PUBLISH
X-MS-OLK-FORCEINSPECTOROPEN:TRUE
BEGIN:VEVENT
UID:20260423T001455CEST-5333wv1i2m@BPW Ticino
DTSTAMP:20260422T221455Z
DESCRIPTION:
DTSTART:20180608T180000
DTEND:20180608T193000
LOCATION:Ristorante Anacapri
ORGANIZER:MAILTO:BPW Ticino <info@bpw-ticino.ch>
SUMMARY:Aperitivo sul Ceresio
END:VEVENT
END:VCALENDAR
