BEGIN:VCALENDAR
VERSION:2.0
PRODID:-//BPW Ticino//NONSGML kigkonsult.se iCalcreator 2.16.12//
METHOD:PUBLISH
X-MS-OLK-FORCEINSPECTOROPEN:TRUE
BEGIN:VEVENT
UID:20260423T001601CEST-8595A1uRBG@BPW Ticino
DTSTAMP:20260422T221601Z
DESCRIPTION:\n \n\n
DTSTART:20200130T184500
DTEND:20210129T210000
LOCATION:Hotel Pestalozzi\, Lugano
ORGANIZER:MAILTO:BPW Ticino <info@bpw-ticino.ch>
SUMMARY:Assemblea delle socie 2020
END:VEVENT
END:VCALENDAR
