BEGIN:VCALENDAR
VERSION:2.0
PRODID:-//BPW Ticino//NONSGML kigkonsult.se iCalcreator 2.16.12//
METHOD:PUBLISH
X-MS-OLK-FORCEINSPECTOROPEN:TRUE
BEGIN:VEVENT
UID:20260423T001736CEST-34072JoTB9@BPW Ticino
DTSTAMP:20260422T221736Z
DESCRIPTION: \n\n \n\nCon piacere vi invitiamo a prendere parte alla tradiz
 ionale cena di Natale organizzata dal nostro Club\, che si svolgerà \n\n 
 \n\nLunedì 3 Dicembre p.v. alle 19.30 \n\npresso il ristorante Soave 10\, 
 in via Soave 10\, 6900 Lugano\n\nwww.soave10.ch\n\n(Il parcheggio più vici
 no è il Motta)\n\n \n\nQuest’anno l’occasione sarà speciale: festeggeremo 
 i 35 anni del nostro Club in Ticino e quindi vi aspettano delle piccole so
 rprese.\n\nSarà soprattutto l’occasione per trascorrere una bella serata i
 nsieme e scambiarci gli auguri. \n\n \n\nVi invitiamo a confermare la vost
 ra presenza e quella dei vostri accompagnatori. \n\nVi preghiamo inoltre d
 i comunicare eventuali intolleranze alimentari e la scelta del menù\nentro
  il 23 novembre tramite e-mail all’indirizzo info@bpw-ticino.ch\n\n \n\nVi
  aspettiamo numerose\n\n \n\n\n
DTSTART:20181203T180000
DTEND:20181203T233000
LOCATION:Ristorante Soave 10
ORGANIZER:MAILTO:BPW Ticino <info@bpw-ticino.ch>
SUMMARY:Cena di Natale
END:VEVENT
END:VCALENDAR
