BEGIN:VCALENDAR
VERSION:2.0
PRODID:-//BPW Ticino//NONSGML kigkonsult.se iCalcreator 2.16.12//
METHOD:PUBLISH
X-MS-OLK-FORCEINSPECTOROPEN:TRUE
BEGIN:VEVENT
UID:20260423T014102CEST-7528uedLHt@BPW Ticino
DTSTAMP:20260422T234102Z
DESCRIPTION:
DTSTART:20180516T180000
DTEND:20180516T200000
LOCATION:C/o Fideus SA
ORGANIZER:MAILTO:BPW Ticino <info@bpw-ticino.ch>
SUMMARY:Presentazione nuove socie
END:VEVENT
END:VCALENDAR
