BEGIN:VCALENDAR
VERSION:2.0
PRODID:-//BPW Ticino//NONSGML kigkonsult.se iCalcreator 2.16.12//
METHOD:PUBLISH
X-MS-OLK-FORCEINSPECTOROPEN:TRUE
BEGIN:VEVENT
UID:20260423T031141CEST-9699P4kS0J@BPW Ticino
DTSTAMP:20260423T011141Z
DESCRIPTION:Ein effizienter Halbtages- Workshop für BPW\, die interessiert 
 sind\, weitere strategische Partnerschaften für BPW zu knüpfen und sich mi
 t Powerfrauen auszutauschen.\n\nZiele des Workshops:\n\n​- Sie gewinnen Si
 cherheit und Spass beim Gewinnen neuer Firmenmitglieder\n​- Sie haben eine
 n gut gefüllten Köcher für das Gespräch\n​- Sie bauen auf Bewährtem auf un
 d tun es noch konsequenter\n​- Sie überzeugen die zukünftigen Firmenmitgli
 eder\n\nDurchführung des Workshops:\n​Julia Kalenberg & Joana Torres
DTSTART:20180203T133000
DTEND:20180203T173000
LOCATION:Hotel Astoria Olten
ORGANIZER:MAILTO:BPW Ticino <info@bpw-ticino.ch>
SUMMARY:Community of Practice Firmenmitglieder
END:VEVENT
END:VCALENDAR
